BEGIN:VCALENDAR
VERSION:2.0
PRODID:-//Mountain Peak Life - ECPv6.15.20//NONSGML v1.0//EN
CALSCALE:GREGORIAN
METHOD:PUBLISH
X-WR-CALNAME:Mountain Peak Life
X-ORIGINAL-URL:https://mountainpeaklife.org
X-WR-CALDESC:Events for Mountain Peak Life
REFRESH-INTERVAL;VALUE=DURATION:PT1H
X-Robots-Tag:noindex
X-PUBLISHED-TTL:PT1H
BEGIN:VTIMEZONE
TZID:UTC
BEGIN:STANDARD
TZOFFSETFROM:+0000
TZOFFSETTO:+0000
TZNAME:UTC
DTSTART:20250101T000000
END:STANDARD
END:VTIMEZONE
BEGIN:VEVENT
DTSTART;TZID=UTC:20260429T130000
DTEND;TZID=UTC:20260429T143000
DTSTAMP:20260420T003616
CREATED:20260331T030309Z
LAST-MODIFIED:20260331T030309Z
UID:5172-1777467600-1777473000@mountainpeaklife.org
SUMMARY:Abstract Realism in Watercoler
DESCRIPTION:Join Lee Kennedy for a 90-minute watercolor class! Lee is a local artist from Nederland who initially studied under watercolorist Annie Thayer. Lee works in watercolor\, acrylic\,\npastel\, watercolor pencil\, and multimedia. Please RSVP at info@mountainpeaklife.org or call us at (303) 258-0799. Space is limited to 15 participants. The cost is free! Supplies are provided\, but if you have your own materials\, such as watercolor paper and brushes that you prefer to use\, please bring them with you.
URL:https://mountainpeaklife.org/events/abstract-realism-in-watercoler/
LOCATION:Nederland Community Center\, 750 CO-72\, Nederland\, Colorado\, 80466\, United States
END:VEVENT
END:VCALENDAR